BEGIN:VCALENDAR
VERSION:2.0
PRODID:-//IBADAT International University, Islamabad - ECPv6.15.20//NONSGML v1.0//EN
CALSCALE:GREGORIAN
METHOD:PUBLISH
X-WR-CALNAME:IBADAT International University, Islamabad
X-ORIGINAL-URL:https://iiui.edu.pk
X-WR-CALDESC:Events for IBADAT International University, Islamabad
REFRESH-INTERVAL;VALUE=DURATION:PT1H
X-Robots-Tag:noindex
X-PUBLISHED-TTL:PT1H
BEGIN:VTIMEZONE
TZID:Asia/Karachi
BEGIN:STANDARD
TZOFFSETFROM:+0500
TZOFFSETTO:+0500
TZNAME:PKT
DTSTART:20220101T000000
END:STANDARD
END:VTIMEZONE
BEGIN:VEVENT
DTSTART;TZID=Asia/Karachi:20231016T110000
DTEND;TZID=Asia/Karachi:20231016T130000
DTSTAMP:20260421T173730
CREATED:20231016T062309Z
LAST-MODIFIED:20231016T062309Z
UID:4804-1697454000-1697461200@iiui.edu.pk
SUMMARY:Seminar on: How To Fight Back Malnutrition - An Evidence Based Approach
DESCRIPTION:
URL:https://iiui.edu.pk/event/seminar-on-how-to-fight-back-malnutrition-an-evidence-based-approach/
LOCATION:1st Floor. Block A\, IIUI
END:VEVENT
BEGIN:VEVENT
DTSTART;TZID=Asia/Karachi:20231015T110000
DTEND;TZID=Asia/Karachi:20231015T130000
DTSTAMP:20260421T173730
CREATED:20231030T085304Z
LAST-MODIFIED:20231030T085304Z
UID:4948-1697367600-1697374800@iiui.edu.pk
SUMMARY:BS Nursing program Entry Test
DESCRIPTION:Details for BS Nursing program at Ibadat International University\, Islamabad.\nStudents are required to bring the following attested documents:\n1. FSc Marks Sheet/Result Card\n2. Matric Marks Sheet/Result Card\n3. CNIC or B. Form with Father CNIC\n4. Domicile\n5. Entry Test slip
URL:https://iiui.edu.pk/event/bs-nursing-program-entry-test/
LOCATION:IBADAT International University\, Islamabad
END:VEVENT
BEGIN:VEVENT
DTSTART;TZID=Asia/Karachi:20231014T110000
DTEND;TZID=Asia/Karachi:20231014T130000
DTSTAMP:20260421T173730
CREATED:20231030T084836Z
LAST-MODIFIED:20231030T084836Z
UID:4944-1697281200-1697288400@iiui.edu.pk
SUMMARY:Entry Test Master of Science in Physical Therapy
DESCRIPTION:
URL:https://iiui.edu.pk/event/entry-test-master-of-science-in-physical-therapy/
LOCATION:IBADAT International University\, Islamabad
END:VEVENT
BEGIN:VEVENT
DTSTART;VALUE=DATE:20231013
DTEND;VALUE=DATE:20231014
DTSTAMP:20260421T173730
CREATED:20231030T085126Z
LAST-MODIFIED:20231030T085126Z
UID:4946-1697155200-1697241599@iiui.edu.pk
SUMMARY:MOU Signing Ceremony: IIUI and Engineering Research Laboratories
DESCRIPTION:
URL:https://iiui.edu.pk/event/mou-signing-ceremony-iiui-and-engineering-research-laboratories/
LOCATION:IBADAT International University\, Islamabad
END:VEVENT
BEGIN:VEVENT
DTSTART;TZID=Asia/Karachi:20231007T110000
DTEND;TZID=Asia/Karachi:20231007T130000
DTSTAMP:20260421T173730
CREATED:20231030T084701Z
LAST-MODIFIED:20231030T084701Z
UID:4941-1696676400-1696683600@iiui.edu.pk
SUMMARY:Entry Test M.Phil Pharmacology
DESCRIPTION:M.Phil Pharmacology test on 07th Oct\, 2023
URL:https://iiui.edu.pk/event/entry-test-m-phil-pharmacology/
LOCATION:IBADAT International University\, Islamabad
END:VEVENT
BEGIN:VEVENT
DTSTART;VALUE=DATE:20231002
DTEND;VALUE=DATE:20231003
DTSTAMP:20260421T173730
CREATED:20230928T102441Z
LAST-MODIFIED:20230928T102441Z
UID:4768-1696204800-1696291199@iiui.edu.pk
SUMMARY:Orientation Program Fall 2023
DESCRIPTION:Orientation Fall 2023
URL:https://iiui.edu.pk/event/orientation-program-fall-2023/
LOCATION:IBADAT International University\, Islamabad
END:VEVENT
BEGIN:VEVENT
DTSTART;TZID=Asia/Karachi:20230921T100000
DTEND;TZID=Asia/Karachi:20230921T230000
DTSTAMP:20260421T173730
CREATED:20230925T043339Z
LAST-MODIFIED:20230925T043339Z
UID:4681-1695290400-1695337200@iiui.edu.pk
SUMMARY:MOU Signing Ceremony Between IIUI & RCCI
DESCRIPTION:
URL:https://iiui.edu.pk/event/mou-signing-ceremony-between-iiui-rcci/
END:VEVENT
BEGIN:VEVENT
DTSTART;VALUE=DATE:20230906
DTEND;VALUE=DATE:20230907
DTSTAMP:20260421T173730
CREATED:20230906T074811Z
LAST-MODIFIED:20230906T074811Z
UID:4661-1693958400-1694044799@iiui.edu.pk
SUMMARY:6th September Defence Day!
DESCRIPTION:We honor the brave defenders of our Nation on this Defence Day.
URL:https://iiui.edu.pk/event/6th-september-defence-day/
END:VEVENT
BEGIN:VEVENT
DTSTART;VALUE=DATE:20230826
DTEND;VALUE=DATE:20230827
DTSTAMP:20260421T173730
CREATED:20230828T075440Z
LAST-MODIFIED:20230828T075440Z
UID:4586-1693008000-1693094399@iiui.edu.pk
SUMMARY:LL.B Interview
DESCRIPTION:LLB Interview
URL:https://iiui.edu.pk/event/ll-b-interview/
LOCATION:IBADAT International University\, Islamabad
END:VEVENT
BEGIN:VEVENT
DTSTART;VALUE=DATE:20230826
DTEND;VALUE=DATE:20230827
DTSTAMP:20260421T173730
CREATED:20230828T075322Z
LAST-MODIFIED:20230828T075322Z
UID:4585-1693008000-1693094399@iiui.edu.pk
SUMMARY:Entry Test Pharm D
DESCRIPTION:  \nENTRY TEST (2)
URL:https://iiui.edu.pk/event/entry-test-pharm-d/
LOCATION:1st Floor. Block A\, IIUI
END:VEVENT
BEGIN:VEVENT
DTSTART;TZID=Asia/Karachi:20230817T110000
DTEND;TZID=Asia/Karachi:20230817T113000
DTSTAMP:20260421T173730
CREATED:20230821T084826Z
LAST-MODIFIED:20230821T084826Z
UID:4517-1692270000-1692271800@iiui.edu.pk
SUMMARY:MoU Between Options 2 Solutions and IIUI
DESCRIPTION:
URL:https://iiui.edu.pk/event/mou-between-options-2-solutions-and-iiui/
LOCATION:1st Floor. Block A\, IIUI
END:VEVENT
BEGIN:VEVENT
DTSTART;TZID=Asia/Karachi:20230810T110000
DTEND;TZID=Asia/Karachi:20230810T110000
DTSTAMP:20260421T173731
CREATED:20230810T061139Z
LAST-MODIFIED:20230818T063213Z
UID:4457-1691665200-1691665200@iiui.edu.pk
SUMMARY:MoU Sign Between Hamkaar Ventures & IIUI
DESCRIPTION:
URL:https://iiui.edu.pk/event/mou-sign-between-humkaar-iiui/
LOCATION:1st Floor. Block A\, IIUI
END:VEVENT
BEGIN:VEVENT
DTSTART;VALUE=DATE:20230805
DTEND;VALUE=DATE:20230806
DTSTAMP:20260421T173731
CREATED:20230808T091209Z
LAST-MODIFIED:20230808T091209Z
UID:4453-1691193600-1691279999@iiui.edu.pk
SUMMARY:Interviews for Bachelor of Laws (LL.B)
DESCRIPTION:Interviews for Bachelor of Laws (LL.B)
URL:https://iiui.edu.pk/event/interviews-for-bachelor-of-laws-ll-b/
LOCATION:1st Floor. Block A\, IIUI
END:VEVENT
BEGIN:VEVENT
DTSTART;VALUE=DATE:20230805
DTEND;VALUE=DATE:20230806
DTSTAMP:20260421T173731
CREATED:20230808T090919Z
LAST-MODIFIED:20230808T090919Z
UID:4450-1691193600-1691279999@iiui.edu.pk
SUMMARY:Entry Test for Doctor of Pharmacy
DESCRIPTION:Entry Test for Doctor of Pharmacy
URL:https://iiui.edu.pk/event/entry-test-for-doctor-of-pharmacy/
LOCATION:1st Floor. Block A\, IIUI
END:VEVENT
BEGIN:VEVENT
DTSTART;TZID=Asia/Karachi:20230720T113000
DTEND;TZID=Asia/Karachi:20230720T123000
DTSTAMP:20260421T173731
CREATED:20230808T090648Z
LAST-MODIFIED:20230808T090648Z
UID:4447-1689852600-1689856200@iiui.edu.pk
SUMMARY:Entry Test Master of Science in Diagnostic Ultrasound
DESCRIPTION:Entry Test Master of Science in Diagnostic Ultrasound
URL:https://iiui.edu.pk/event/entry-test-master-of-science-in-diagnostic-ultrasound/
LOCATION:Moodle
END:VEVENT
BEGIN:VEVENT
DTSTART;TZID=Asia/Karachi:20230720T113000
DTEND;TZID=Asia/Karachi:20230720T123000
DTSTAMP:20260421T173731
CREATED:20230808T090444Z
LAST-MODIFIED:20230808T090444Z
UID:4442-1689852600-1689856200@iiui.edu.pk
SUMMARY:Entry Test Diploma in Diagnostic Ultrasound
DESCRIPTION:Entry Test Diploma in Diagnostic Ultrasound
URL:https://iiui.edu.pk/event/entry-test-diploma-in-diagnostic-ultrasound/
LOCATION:Moodle
END:VEVENT
BEGIN:VEVENT
DTSTART;TZID=Asia/Karachi:20230716T103000
DTEND;TZID=Asia/Karachi:20230716T120000
DTSTAMP:20260421T173731
CREATED:20230712T043654Z
LAST-MODIFIED:20230712T043654Z
UID:4257-1689503400-1689508800@iiui.edu.pk
SUMMARY:Entry Test for Doctor of Pharmacy (Pharm. D) Fall 2023-24 will be held on 16-07-2023 (Sunday).
DESCRIPTION:Entry Test for Doctor of Pharmacy (Pharm. D) Fall 2023-24 will be held on 16-07-2023 (Sunday).
URL:https://iiui.edu.pk/event/entry-test-for-doctor-of-pharmacy-pharm-d-fall-2023-24-will-be-held-on-16-07-2023-sunday/
LOCATION:IBADAT International University\, Islamabad
END:VEVENT
BEGIN:VEVENT
DTSTART;TZID=Asia/Karachi:20230621T130000
DTEND;TZID=Asia/Karachi:20230621T140000
DTSTAMP:20260421T173731
CREATED:20230620T090730Z
LAST-MODIFIED:20230621T050310Z
UID:4110-1687352400-1687356000@iiui.edu.pk
SUMMARY:Seminar on Abroad Education Awareness
DESCRIPTION:Programe/Topic: “Seminar on Abroad Education Awareness”\nDate: June 21st\, 2023\nDay: Wednesday\nTime: 1:00pm-2:00pm\nVenue of Seminar: Auditorium\, 1st Floor\, Block A
URL:https://iiui.edu.pk/event/seminar-on-abroad-education-awareness/
LOCATION:Auditorium\, 1st Floor\, Block A
END:VEVENT
BEGIN:VEVENT
DTSTART;TZID=Asia/Karachi:20230620T100000
DTEND;TZID=Asia/Karachi:20230620T120000
DTSTAMP:20260421T173731
CREATED:20230621T104548Z
LAST-MODIFIED:20230621T104548Z
UID:4199-1687255200-1687262400@iiui.edu.pk
SUMMARY:Current Challenges in Antimicrobial Resistance
DESCRIPTION:Programe/Topic: “Current Challenges in Antimicrobial Resistance”\nDate: June 20th\, 2023\nDay: Tuesday\nTime: 10:00am-12:00pm\nVenue of Seminar: Auditorium\, 1st Floor\, Block A
URL:https://iiui.edu.pk/event/current-challenges-in-antimicrobial-resistance/
LOCATION:1st Floor. Block A\, IIUI
END:VEVENT
BEGIN:VEVENT
DTSTART;TZID=Asia/Karachi:20230619T123000
DTEND;TZID=Asia/Karachi:20230619T160000
DTSTAMP:20260421T173731
CREATED:20230619T073856Z
LAST-MODIFIED:20230619T073856Z
UID:4048-1687177800-1687190400@iiui.edu.pk
SUMMARY:Inauguration ceremony of Ultrasound Laboratory at Al-ihsan Hospital Saddar Rawalpindi
DESCRIPTION:Program/Topic: ” Inauguration ceremony of Ultrasound Laboratory at Al-ihsan Hospital Saddar Rawalpindi”\nDate: 19th June\, 2023\nDay: Monday\nTime: 12:30PM  onwards
URL:https://iiui.edu.pk/event/inauguration-ceremony-of-ultrasound-laboratory-at-al-ihsan-hospital-saddar-rawalpindi/
LOCATION:Al-ihsan Hospital Saddar Rawalpindi\, Pakistan
END:VEVENT
BEGIN:VEVENT
DTSTART;VALUE=DATE:20230619
DTEND;VALUE=DATE:20230620
DTSTAMP:20260421T173731
CREATED:20230619T070024Z
LAST-MODIFIED:20230619T071329Z
UID:4045-1687132800-1687219199@iiui.edu.pk
SUMMARY:Smoke & Drug Free Campus
DESCRIPTION:Program/Topic: ”Smoke & Drug Free Campus” MOU and Seminar\nDate: 19th June\, 2023\nDay: Monday\nTime: 11:30…\nVenue of Seminar: Auditorium\, 1st Floor\, Block A
URL:https://iiui.edu.pk/event/smoke-drug-free-campus/
LOCATION:1st Floor. Block A\, IIUI
END:VEVENT
BEGIN:VEVENT
DTSTART;VALUE=DATE:20230619
DTEND;VALUE=DATE:20230620
DTSTAMP:20260421T173731
CREATED:20230614T093459Z
LAST-MODIFIED:20230615T084825Z
UID:3990-1687132800-1687219199@iiui.edu.pk
SUMMARY:Free Eye Camp
DESCRIPTION:  \nPrograme/Topic: ‘‘Free Eye Camp”\nDate: June 19th\, 2023\nDay: Monday\nTime: One Day Camp\nVenue of Seminar: Al-Siraj Cadet College\, Talagang\, Chakwal.\n 
URL:https://iiui.edu.pk/event/free-eye-camp/
LOCATION:Al-Siraj Cadet College\, Talagang\, Chakwal\, Pakistan
END:VEVENT
BEGIN:VEVENT
DTSTART;TZID=Asia/Karachi:20230616T100000
DTEND;TZID=Asia/Karachi:20230616T130000
DTSTAMP:20260421T173731
CREATED:20230615T071614Z
LAST-MODIFIED:20230615T071614Z
UID:4029-1686909600-1686920400@iiui.edu.pk
SUMMARY:Clinical and Functional Low Vision Workshop
DESCRIPTION:Clinical and Functional Low Vision Workshop
URL:https://iiui.edu.pk/event/clinical-and-functional-low-vision-workshop-2/
LOCATION:1st Floor. Block A\, IIUI
END:VEVENT
BEGIN:VEVENT
DTSTART;TZID=Asia/Karachi:20230615T103000
DTEND;TZID=Asia/Karachi:20230615T160000
DTSTAMP:20260421T173731
CREATED:20230615T051617Z
LAST-MODIFIED:20230615T051642Z
UID:4024-1686825000-1686844800@iiui.edu.pk
SUMMARY:Blood Donation Camp
DESCRIPTION:Activity Title: Blood Donation Camp\nDate: June 15th\, 2023\nDay: Thursday\nTimings: 10:30am onwards.\nVenue: Hematology Lab\n 
URL:https://iiui.edu.pk/event/blood-donation-camp/
LOCATION:Hematology Lab
END:VEVENT
BEGIN:VEVENT
DTSTART;TZID=Asia/Karachi:20230615T100000
DTEND;TZID=Asia/Karachi:20230615T130000
DTSTAMP:20260421T173731
CREATED:20230614T093218Z
LAST-MODIFIED:20230615T085004Z
UID:3991-1686823200-1686834000@iiui.edu.pk
SUMMARY:Clinical and Functional Low Vision Workshop
DESCRIPTION:Clinical and Functional Low Vision Workshop\n 
URL:https://iiui.edu.pk/event/clinical-and-functional-low-vision-workshop/
LOCATION:IBADAT International University\, Islamabad
END:VEVENT
BEGIN:VEVENT
DTSTART;VALUE=DATE:20230614
DTEND;VALUE=DATE:20230615
DTSTAMP:20260421T173731
CREATED:20230526T042243Z
LAST-MODIFIED:20230526T042243Z
UID:3791-1686700800-1686787199@iiui.edu.pk
SUMMARY:E-Sports Event
DESCRIPTION:
URL:https://iiui.edu.pk/event/e-sports-event/
LOCATION:IBADAT International University\, Islamabad
END:VEVENT
BEGIN:VEVENT
DTSTART;TZID=Asia/Karachi:20230613T110000
DTEND;TZID=Asia/Karachi:20230613T123000
DTSTAMP:20260421T173731
CREATED:20230531T065937Z
LAST-MODIFIED:20230531T065937Z
UID:3809-1686654000-1686659400@iiui.edu.pk
SUMMARY:Unlock the Potential: Career Opportunities in Sports Nutrition
DESCRIPTION:
URL:https://iiui.edu.pk/event/unlock-the-potential-career-opportunities-in-sports-nutrition/
LOCATION:IBADAT International University\, Islamabad
END:VEVENT
BEGIN:VEVENT
DTSTART;TZID=Asia/Karachi:20230612T100000
DTEND;TZID=Asia/Karachi:20230612T160000
DTSTAMP:20260421T173731
CREATED:20230612T053144Z
LAST-MODIFIED:20230612T053144Z
UID:3961-1686564000-1686585600@iiui.edu.pk
SUMMARY:B Thalassemia Awareness and Screening Camp
DESCRIPTION:Programe/Topic: ”B Thalassemia Awareness and Screening Camp”\nDate: June 12th\,2023\nDay: Monday\nTime: 10:00am onwards\nVenue of Seminar: Auditorium\, 1st Floor\, Block A\nVenue of Trait Screening Camp: Hematology Lab\, Ground Floor\, Block A
URL:https://iiui.edu.pk/event/b-thalassemia-awareness-and-screening-camp/
LOCATION:Auditorium\, 1st Floor\, Block A
END:VEVENT
BEGIN:VEVENT
DTSTART;TZID=Asia/Karachi:20230610T093000
DTEND;TZID=Asia/Karachi:20230610T140000
DTSTAMP:20260421T173731
CREATED:20230602T051903Z
LAST-MODIFIED:20230602T052007Z
UID:3831-1686389400-1686405600@iiui.edu.pk
SUMMARY:Clean Drive Up Initiative
DESCRIPTION:IBADAT Social Services Club (ISSC) is going to organize an activity.
URL:https://iiui.edu.pk/event/clean-drive-up-initiative/
LOCATION:Faisal Mosque
END:VEVENT
BEGIN:VEVENT
DTSTART;TZID=Asia/Karachi:20230607T123000
DTEND;TZID=Asia/Karachi:20230607T140000
DTSTAMP:20260421T173731
CREATED:20230418T082035Z
LAST-MODIFIED:20230526T052602Z
UID:3288-1686141000-1686146400@iiui.edu.pk
SUMMARY:ChatGPT
DESCRIPTION:
URL:https://iiui.edu.pk/event/chatgpt/
LOCATION:IBADAT International University\, Islamabad
END:VEVENT
END:VCALENDAR