BEGIN:VCALENDAR
VERSION:2.0
PRODID:-//IBADAT International University, Islamabad - ECPv6.15.20//NONSGML v1.0//EN
CALSCALE:GREGORIAN
METHOD:PUBLISH
X-ORIGINAL-URL:https://iiui.edu.pk
X-WR-CALDESC:Events for IBADAT International University, Islamabad
REFRESH-INTERVAL;VALUE=DURATION:PT1H
X-Robots-Tag:noindex
X-PUBLISHED-TTL:PT1H
BEGIN:VTIMEZONE
TZID:Asia/Karachi
BEGIN:STANDARD
TZOFFSETFROM:+0500
TZOFFSETTO:+0500
TZNAME:PKT
DTSTART:20220101T000000
END:STANDARD
END:VTIMEZONE
BEGIN:VEVENT
DTSTART;TZID=Asia/Karachi:20230606T130000
DTEND;TZID=Asia/Karachi:20230606T150000
DTSTAMP:20260421T222754
CREATED:20230606T040220Z
LAST-MODIFIED:20230606T040220Z
UID:3836-1686056400-1686063600@iiui.edu.pk
SUMMARY:Seminar on Level 3 Leadership - The Care & Growth Model
DESCRIPTION:
URL:https://iiui.edu.pk/event/seminar-on-level-3-leadership-the-care-growth-model/
LOCATION:1st Floor. Block A\, IIUI
END:VEVENT
BEGIN:VEVENT
DTSTART;TZID=Asia/Karachi:20230603T060000
DTEND;TZID=Asia/Karachi:20230603T170000
DTSTAMP:20260421T222754
CREATED:20230530T103039Z
LAST-MODIFIED:20230530T103039Z
UID:3806-1685772000-1685811600@iiui.edu.pk
SUMMARY:One Day Trip to Mushkpuri Peak
DESCRIPTION:Ibadat Adventure Club Organizing a One Day Trip to Mushkpuri Peak.
URL:https://iiui.edu.pk/event/one-day-trip-to-mushkpuri-peak/
LOCATION:IBADAT International University\, Islamabad
END:VEVENT
BEGIN:VEVENT
DTSTART;VALUE=DATE:20230601
DTEND;VALUE=DATE:20230602
DTSTAMP:20260421T222754
CREATED:20230526T042154Z
LAST-MODIFIED:20230526T042154Z
UID:3789-1685577600-1685663999@iiui.edu.pk
SUMMARY:FYP Poster Compilation in AU
DESCRIPTION:
URL:https://iiui.edu.pk/event/fyp-poster-compilation-in-au/
END:VEVENT
BEGIN:VEVENT
DTSTART;TZID=Asia/Karachi:20230530T123000
DTEND;TZID=Asia/Karachi:20230530T140000
DTSTAMP:20260421T222754
CREATED:20230418T083327Z
LAST-MODIFIED:20230526T052633Z
UID:3307-1685449800-1685455200@iiui.edu.pk
SUMMARY:Workshop on Block Chain  and Web 3.0.
DESCRIPTION:
URL:https://iiui.edu.pk/event/block-chain/
LOCATION:IBADAT International University\, Islamabad
END:VEVENT
BEGIN:VEVENT
DTSTART;VALUE=DATE:20230524
DTEND;VALUE=DATE:20230527
DTSTAMP:20260421T222754
CREATED:20230525T073457Z
LAST-MODIFIED:20230525T073457Z
UID:3758-1684886400-1685145599@iiui.edu.pk
SUMMARY:Sports Week IIUI
DESCRIPTION:Sports Week IIUI
URL:https://iiui.edu.pk/event/sports-week-iiui/
LOCATION:IBADAT International University\, Islamabad
END:VEVENT
BEGIN:VEVENT
DTSTART;VALUE=DATE:20230517
DTEND;VALUE=DATE:20230518
DTSTAMP:20260421T222754
CREATED:20230418T083207Z
LAST-MODIFIED:20230418T083207Z
UID:3303-1684281600-1684367999@iiui.edu.pk
SUMMARY:Internet of Things (IoT)
DESCRIPTION:
URL:https://iiui.edu.pk/event/internet-of-things-iot/
LOCATION:IBADAT International University\, Islamabad
END:VEVENT
BEGIN:VEVENT
DTSTART;VALUE=DATE:20230515
DTEND;VALUE=DATE:20230516
DTSTAMP:20260421T222754
CREATED:20230418T082809Z
LAST-MODIFIED:20230502T080723Z
UID:3300-1684108800-1684195199@iiui.edu.pk
SUMMARY:Data Science
DESCRIPTION:
URL:https://iiui.edu.pk/event/data-science/
LOCATION:IBADAT International University\, Islamabad
END:VEVENT
BEGIN:VEVENT
DTSTART;VALUE=DATE:20230515
DTEND;VALUE=DATE:20230516
DTSTAMP:20260421T222754
CREATED:20230418T082613Z
LAST-MODIFIED:20230502T080732Z
UID:3297-1684108800-1684195199@iiui.edu.pk
SUMMARY:Cyber Security
DESCRIPTION:
URL:https://iiui.edu.pk/event/cyber-security/
LOCATION:IBADAT International University\, Islamabad
END:VEVENT
BEGIN:VEVENT
DTSTART;TZID=Asia/Karachi:20230502T090000
DTEND;TZID=Asia/Karachi:20230515T160000
DTSTAMP:20260421T222754
CREATED:20230502T080428Z
LAST-MODIFIED:20230502T080428Z
UID:3694-1683018000-1684166400@iiui.edu.pk
SUMMARY:Good Luck! IIUI
DESCRIPTION:Good luck for midterm
URL:https://iiui.edu.pk/event/good-luck-iiui/
LOCATION:IBADAT International University\, Islamabad
END:VEVENT
BEGIN:VEVENT
DTSTART;VALUE=DATE:20230412
DTEND;VALUE=DATE:20230413
DTSTAMP:20260421T222754
CREATED:20230418T081726Z
LAST-MODIFIED:20230418T081802Z
UID:3285-1681257600-1681343999@iiui.edu.pk
SUMMARY:Cloud Solution Architecture
DESCRIPTION:Cloud Solution Architecture Seminar
URL:https://iiui.edu.pk/event/cloud-solution-architecture/
LOCATION:IBADAT International University\, Islamabad
END:VEVENT
END:VCALENDAR